BEGIN:VCALENDAR
VERSION:2.0
PRODID:-//Robin Hood Racing - ECPv6.7.0//NONSGML v1.0//EN
CALSCALE:GREGORIAN
METHOD:PUBLISH
X-WR-CALNAME:Robin Hood Racing
X-ORIGINAL-URL:https://www.robinhoodraces.com
X-WR-CALDESC:Events for Robin Hood Racing
REFRESH-INTERVAL;VALUE=DURATION:PT1H
X-Robots-Tag:noindex
X-PUBLISHED-TTL:PT1H
BEGIN:VTIMEZONE
TZID:America/New_York
BEGIN:DAYLIGHT
TZOFFSETFROM:-0500
TZOFFSETTO:-0400
TZNAME:EDT
DTSTART:20250309T070000
END:DAYLIGHT
BEGIN:STANDARD
TZOFFSETFROM:-0400
TZOFFSETTO:-0500
TZNAME:EST
DTSTART:20251102T060000
END:STANDARD
END:VTIMEZONE
BEGIN:VEVENT
DTSTART;TZID=America/New_York:20250427T090000
DTEND;TZID=America/New_York:20250427T120000
DTSTAMP:20260423T044139
CREATED:20250129T222353Z
LAST-MODIFIED:20250410T001147Z
UID:10000942-1745744400-1745755200@www.robinhoodraces.com
SUMMARY:Penfield Education Foundation (PEF) 5K
DESCRIPTION:REGISTER\nThe Penfield Education Foundation (PEF) is excited to be hosting the sixth (6th) annual PEF 5K with the support of our Premier Sponsor\, Family First Credit Union. This race/walk will start and end at the Penfield High School track on Sunday\, April 27\, 2025 at 9am. This community 5K race/walk is intended to provide a morning of healthy exercise while supporting the Penfield Education Foundation (PEF). Post-race refreshments provided by Wegmans. \nThe primary goal of PEF is to raise funds to provide grants for school programs that are not supported through the District’s own budget and to support the awarding of scholarships to further the education of Penfield Central School District students. The PEF 5K is the main fundraiser to support these grants and scholarships.
URL:https://www.robinhoodraces.com/race/penfield-education-foundation-pef-5k-2/
LOCATION:Penfield High School Track\, 25 High School Drive\, Penfield\, 14526\, United States
CATEGORIES:2025
ATTACH;FMTTYPE=image/jpeg:https://www.robinhoodraces.com/wp-content/uploads/2025/01/Untitled-design-2.jpg
GEO:43.1362444;-77.4714968
X-APPLE-STRUCTURED-LOCATION;VALUE=URI;X-ADDRESS=Penfield High School Track 25 High School Drive Penfield 14526 United States;X-APPLE-RADIUS=500;X-TITLE=25 High School Drive:geo:-77.4714968,43.1362444
END:VEVENT
END:VCALENDAR